Workbook
Name _Toc73348247: DQE!#REF!

Sheet BPU
A1: Villa Arson
A2: Infogérance du système d’information, fournitures d’environnements d’infrastructures informatique BORDEREAU DES PRIX UNITAIRES Le titulaire utilise des prix remisés pour renseignés le présent document.
A4: Le titulaire doit renseigner entièrement le présent document qui complète automatiquement le détail quantitatif estimatif. Tout prix non renseigné sera considéré comme gratuit par le pouvoir adjudicteur
A9: Prestations d'infogérance
A10: Description | B10: Coûts unitaires (€HT) | C10: Référence telle quelle apparaitra sur la facturation
A11: Prestations forfaitaires récurrentes
A12: Forfait mensuel d'infogérance pour l'ensemble des activités définies au chapitre 7 du CCTP sans l'assistance fonctionnelle | B12: 0
A13: Forfait mensuel d'infogérance pour l'ensemble des activités définies au chapitre 7 du CCTP incluant l'assistance fonctionnelle | B13: 0
A14: Forfait mensuel de gouvernance pour l'ensemble des activités définies au chapitre 10 du CCTP | B14: 0
A16: Prestations forfaitaires ponctuelles
A17: Prestation d'initialisation de l'accord-cadre (telle qu'attendue au chapitre 11 du CCTP) | B17: 0
A18: Prestation pour la réversibilité (telle qu'attendue au chapitre 12 du CCTP) | B18: 0
A21: Fourniture et prestations complémentaires
A22: Description | B22: Coûts unitaires (€HT) | C22: Référence telle quelle apparaitra sur la facturation
A23: Ressources pour projets d'intégration
A24: Journée Chef de projet - HO | B24: 0
A25: 1/2 journée Chef de projet - HNO | B25: 0
A27: Journée ingénieur/expert certifié - HO | B27: 0
A28: 1/2 journée ingénieur/expert certifié - HO | B28: 0
A29: Journée ingénieur/expert certifié - HNO | B29: 0
A30: 1/2 journée ingénieur/expert certifié - HNO | B30: 0
A32: Journée administrateur système/réseau - HO | B32: 0
A33: 1/2 journée administrateur système/réseau - HO | B33: 0
A34: Journée administrateur système/réseau - HNO | B34: 0
A35: 1/2 journée administrateur système/réseau - HNO | B35: 0
A37: Journée technicien - HO | B37: 0
A38: 1/2 journée technicien - HO | B38: 0
... A43: 1/2 journée formateur - HO | B43: 0
A45: Forfaits de prestations
A46: Journée de régie (telle qu'attendue au chapitre 8 du CCTP) | B46: 0
A48: Forfait de prestation pour le projet 1 (tel qu'attendu au chapitre 9.2.2 du CCTP) | B48: 0
A49: Forfait de prestation pour le projet 2 (tel qu'attendu au chapitre 9.2.3 du CCTP) | B49: 0
A50: Forfait de prestation pour le projet 3 (tel qu'attendu au chapitre 9.2.4 du CCTP) | B50: 0
A52: Installation d'un poste informatique sur sur la base du 7.3.2 du CCTP | B52: 0
A53: Installation de 2 à 5 poste informatique sur sur la base du 7.3.2 du CCTP | B53: 0
A54: Installation de 6 à 10 poste informatique sur sur la base du 7.3.2 du CCTP | B54: 0
A55: Installation de 11 à 15 poste informatique sur sur la base du 7.3.2 du CCTP | B55: 0
A57: Fourniture de matériels et de licences
A58: Fourniture d'un Bundle correspondant à la fourniture d'un cluster actif/passif de Fortigate 400G associés à une licence UTP pour le projet 1 | B58: 0
A60: Abonnement mensuel pour une licence EDR pour poste informatique | B60: 0
...

Sheet DQE
A1: Villa Arson
A2: Infogérance du système d’information, fournitures d’environnements d’infrastructures informatique DETAIL QUANTITATIF ESTIMATIF NON CONTRACTUEL Le présent document n'est considéré que comme un élément nécessaire à la comparaison des offres entre elles. Les quantités figurant dans le présent document ne constituent en aucun cas un engagement du pouvoir adjudicateur vis à vis des candidats.
A4: Le présent document est automatiquement complété sur la base des informations renseignées dans l'onglet "BPU". Aucune modification de ce document n'est autorisée.
A9: Prestations d'infogérance
A10: Description | B10: Quantités totales | C10: Coûts unitaires (€HT) | D10: Coûts totaux (€ HT/ 3 ans) | E10: Observations
A11: Prestations forfaitaires récurrentes
A12: Forfait mensuel d'infogérance pour l'ensemble des activités définies au chapitre 7 du CCTP sans l'assistance fonctionnelle | B12: 36 | C12: =SUMIFS(BPU!B:B,BPU!A:A,A12) -> 0 | D12: =C12*B12 -> 0
A13: Forfait mensuel de gouvernance pour l'ensemble des activités définies au chapitre 10 du CCTP | B13: =36 -> 36 | C13: =SUMIFS(BPU!B:B,BPU!A:A,A13) -> 0 | D13: =C13*B13 -> 0
A15: Prestations forfaitaires ponctuelles
A16: Prestation d'initialisation de l'accord-cadre (telle qu'attendue au chapitre 11 du CCTP) | B16: 1 | C16: =SUMIFS(BPU!B:B,BPU!A:A,A16) -> 0 | D16: =C16*B16 -> 0
A17: Prestation pour la réversibilité (telle qu'attendue au chapitre 12 du CCTP) | B17: 1 | C17: =SUMIFS(BPU!B:B,BPU!A:A,A17) -> 0 | D17: =C17*B17 -> 0
A19: Total - Prestations d'infogérance €HT/3 ans | D19: =SUM(D12:D18) -> 0
A21: Prestations complémentaires
A22: Description | B22: Quantités totales | C22: Coûts unitaires (€HT) | D22: Coûts totaux (€ HT/ 3 ans) | E22: Observations
A23: Ressources pour projets d'intégration
A24: Journée Chef de projet - HO | B24: 5 | C24: =SUMIFS(BPU!B:B,BPU!A:A,A24) -> 0 | D24: =C24*B24 -> 0
A25: Journée ingénieur/expert certifié - HO | B25: 5 | C25: =SUMIFS(BPU!B:B,BPU!A:A,A25) -> 0 | D25: =C25*B25 -> 0
A26: Journée administrateur système/réseau - HO | B26: 5 | C26: =SUMIFS(BPU!B:B,BPU!A:A,A26) -> 0 | D26: =C26*B26 -> 0
A27: Journée technicien - HO | B27: 10 | C27: =SUMIFS(BPU!B:B,BPU!A:A,A27) -> 0 | D27: =C27*B27 -> 0
A29: Forfaits de prestations
A30: Journée de régie (telle qu'attendue au chapitre 8 du CCTP) | B30: =3*12*3 -> 108 | C30: =SUMIFS(BPU!B:B,BPU!A:A,A30) -> 0 | D30: =C30*B30 -> 0
A32: Forfait de prestation pour le projet 1 (tel qu'attendu au chapitre 9.2.2 du CCTP) | B32: 1 | C32: =SUMIFS(BPU!B:B,BPU!A:A,A32) -> 0 | D32: =C32*B32 -> 0
A33: Forfait de prestation pour le projet 2 (tel qu'attendu au chapitre 9.2.3 du CCTP) | B33: 1 | C33: =SUMIFS(BPU!B:B,BPU!A:A,A33) -> 0 | D33: =C33*B33 -> 0
A34: Forfait de prestation pour le projet 3 (tel qu'attendu au chapitre 9.2.4 du CCTP) | B34: 1 | C34: =SUMIFS(BPU!B:B,BPU!A:A,A34) -> 0 | D34: =C34*B34 -> 0
A36: Installation d'un poste informatique sur sur la base du 7.3.2 du CCTP | B36: 5 | C36: =SUMIFS(BPU!B:B,BPU!A:A,A36) -> 0 | D36: =C36*B36 -> 0
A37: Installation de 2 à 5 poste informatique sur sur la base du 7.3.2 du CCTP | B37: 1 | C37: =SUMIFS(BPU!B:B,BPU!A:A,A37) -> 0 | D37: =C37*B37 -> 0
A38: Installation de 6 à 10 poste informatique sur sur la base du 7.3.2 du CCTP | B38: 1 | C38: =SUMIFS(BPU!B:B,BPU!A:A,A38) -> 0 | D38: =C38*B38 -> 0
A39: Installation de 11 à 15 poste informatique sur sur la base du 7.3.2 du CCTP | B39: 1 | C39: =SUMIFS(BPU!B:B,BPU!A:A,A39) -> 0 | D39: =C39*B39 -> 0
A41: Fourniture de matériels et de licences
A42: Fourniture d'un Bundle correspondant à la fourniture d'un cluster actif/passif de Fortigate 400G associés à une licence UTP pour le projet 1 | B42: 1 | C42: =SUMIFS(BPU!B:B,BPU!A:A,A42) -> 0 | D42: =C42*B42 -> 0
A44: Abonnement mensuel pour une licence EDR pour poste informatique | B44: =60*12*3 -> 2160 | C44: =SUMIFS(BPU!B:B,BPU!A:A,A44) -> 0 | D44: =C44*B44 -> 0
A45: Abonnement mensuel pour une licence EDR pour un serveur virtuel | B45: =20*12*3 -> 720 | C45: =SUMIFS(BPU!B:B,BPU!A:A,A45) -> 0 | D45: =C45*B45 -> 0
A47: Forfait pour la maintenance matérielle du serveur de production 1 pour 3 ans | B47: 1 | C47: =SUMIFS(BPU!B:B,BPU!A:A,A47) -> 0 | D47: =C47*B47 -> 0
A48: Forfait pour la maintenance matérielle du serveur de production 2 pour 3 ans | B48: 1 | C48: =SUMIFS(BPU!B:B,BPU!A:A,A48) -> 0 | D48: =C48*B48 -> 0
A49: Forfait pour la maintenance matérielle du serveur de PRA pour 3 ans | B49: 1 | C49: =SUMIFS(BPU!B:B,BPU!A:A,A49) -> 0 | D49: =C49*B49 -> 0
A51: Forfait pour l'ensemble des licences nécessaires pour l'environnement de virtualisation serveur pour le projet 3 (pour 3 ans) | B51: 1 | C51: =SUMIFS(BPU!B:B,BPU!A:A,A51) -> 0 | D51: =C51*B51 -> 0
A53: Total - Prestations complémentaires €HT/3 ans | D53: =SUM(D23:D52) -> 0
A55: Total - Prestations d'infogérance €HT/3 ans | B55: =D19 -> 0
A56: Total - Prestations complémentaires €HT/3 ans | B56: =D53 -> 0
A58: Total - €HT/3 ans | B58: =B55+B56 -> 0
